BEGIN:VCALENDAR
PRODID:-//eluceo/ical//2.0/EN
VERSION:2.0
CALSCALE:GREGORIAN
BEGIN:VEVENT
UID:3e536e7aeec2ee9a084c57db0b2d22ae
DTSTAMP:20260420T160220Z
SUMMARY:Keynotes präsentiert von Korean Creative Content Agency
DESCRIPTION:\n\n
DTSTART;TZID=Europe/Berlin:20260605T143000
DTEND;TZID=Europe/Berlin:20260605T151500
LOCATION:Mainstage
END:VEVENT
BEGIN:VTIMEZONE
TZID:Europe/Berlin
END:VTIMEZONE
END:VCALENDAR
