BEGIN:VCALENDAR
PRODID:-//eluceo/ical//2.0/EN
VERSION:2.0
CALSCALE:GREGORIAN
BEGIN:VEVENT
UID:ed70e70c5128fa085aa34f42d1f9c9c8
DTSTAMP:20260420T160558Z
SUMMARY:Talk: Rankin\, photographer\, Karin Rehn-Kaufmann\, Art Director & 
 Chief Representative Leica Galleries
DESCRIPTION:
DTSTART;TZID=Europe/Berlin:20260605T171500
DTEND;TZID=Europe/Berlin:20260605T180000
LOCATION:Mainstage
END:VEVENT
BEGIN:VTIMEZONE
TZID:Europe/Berlin
END:VTIMEZONE
END:VCALENDAR
