BEGIN:VCALENDAR
PRODID:-//eluceo/ical//2.0/EN
VERSION:2.0
CALSCALE:GREGORIAN
BEGIN:VEVENT
UID:32bbb39e3170a57c8d63d16b918bb3e4
DTSTAMP:20260420T160338Z
SUMMARY:WDC Open – Design Week Frankfurt RheinMain
DESCRIPTION:Insights und Highlights aus dem Programm der Open – Design We
 ek Frankfurt RheinMain
DTSTART;TZID=Europe/Berlin:20260605T121500
DTEND;TZID=Europe/Berlin:20260605T123000
LOCATION:Mainstage
END:VEVENT
BEGIN:VTIMEZONE
TZID:Europe/Berlin
END:VTIMEZONE
END:VCALENDAR
