BEGIN:VCALENDAR
PRODID:-//eluceo/ical//2.0/EN
VERSION:2.0
CALSCALE:GREGORIAN
BEGIN:VEVENT
UID:ae1ca9851e26c87649d311e3d86152d4
DTSTAMP:20260420T160459Z
SUMMARY:Sovereign AI 
DESCRIPTION:präsentiert von House of Digital Transformation
DTSTART;TZID=Europe/Berlin:20260605T164500
DTEND;TZID=Europe/Berlin:20260605T171500
LOCATION:Mainstage
END:VEVENT
BEGIN:VTIMEZONE
TZID:Europe/Berlin
END:VTIMEZONE
END:VCALENDAR
