BEGIN:VCALENDAR
PRODID:-//eluceo/ical//2.0/EN
VERSION:2.0
CALSCALE:GREGORIAN
BEGIN:VEVENT
UID:97539a4a8eed806f217d46203a9d1bb3
DTSTAMP:20260420T160321Z
SUMMARY:Kreative sind das Betriebssystem der KI-Ära
DESCRIPTION:KI pulverisiert das Monopol der Produktion\, doch rohe Rechenkr
 aft ist emotional tot. Die Zukunft liegt im „Human Layer“: Kreative ve
 redeln Daten durch Empathie\, Ethik und Kontext. Vom Persönlichkeitsdesig
 n für Bots bis zur Kontextautorität – wir sind die Konstrukteure des V
 ertrauens und der entscheidende Wettbewerbsvorteil für Deutschland.präse
 ntiert von brand eins
DTSTART;TZID=Europe/Berlin:20260605T111500
DTEND;TZID=Europe/Berlin:20260605T114500
LOCATION:Mainstage
END:VEVENT
BEGIN:VTIMEZONE
TZID:Europe/Berlin
END:VTIMEZONE
END:VCALENDAR
