BEGIN:VCALENDAR
PRODID:-//eluceo/ical//2.0/EN
VERSION:2.0
CALSCALE:GREGORIAN
BEGIN:VEVENT
UID:5a560f57585caca343cf245a1fcd3560
DTSTAMP:20260420T160220Z
SUMMARY:Mittagspause
DESCRIPTION:
DTSTART;TZID=Europe/Berlin:20260605T123000
DTEND;TZID=Europe/Berlin:20260605T133000
LOCATION:Mainstage
END:VEVENT
BEGIN:VTIMEZONE
TZID:Europe/Berlin
END:VTIMEZONE
END:VCALENDAR
