BEGIN:VCALENDAR
PRODID:-//eluceo/ical//2.0/EN
VERSION:2.0
CALSCALE:GREGORIAN
BEGIN:VEVENT
UID:470012d8b613987e7feca9ac33ea712a
DTSTAMP:20260420T160300Z
SUMMARY:Julian Witte\, CEO unyt.berlin
DESCRIPTION:
DTSTART;TZID=Europe/Berlin:20260605T140000
DTEND;TZID=Europe/Berlin:20260605T143000
LOCATION:Mainstage
END:VEVENT
BEGIN:VTIMEZONE
TZID:Europe/Berlin
END:VTIMEZONE
END:VCALENDAR
