BEGIN:VCALENDAR
PRODID:-//eluceo/ical//2.0/EN
VERSION:2.0
CALSCALE:GREGORIAN
BEGIN:VEVENT
UID:32f69425faa80ab69588dc8f70e95a30
DTSTAMP:20260420T160209Z
SUMMARY:Programm präsentiert von German Design Council
DESCRIPTION:Service Design
DTSTART;TZID=Europe/Berlin:20260605T114500
DTEND;TZID=Europe/Berlin:20260605T121500
LOCATION:Mainstage
END:VEVENT
BEGIN:VTIMEZONE
TZID:Europe/Berlin
END:VTIMEZONE
END:VCALENDAR
