BEGIN:VCALENDAR
PRODID:-//eluceo/ical//2.0/EN
VERSION:2.0
CALSCALE:GREGORIAN
BEGIN:VEVENT
UID:9b8323e75f6a20bbe41cec1bc39e99aa
DTSTAMP:20260420T160506Z
SUMMARY:Demokratieförderung mit Games 
DESCRIPTION:In Spielen gibt es oft Gruppen und Teams\, welche temporär fü
 r Matches oder Dungeons gebildet werden\, feste Gruppen wie Gilden bis hin
  zu Teams im e-Sport. Alle diese Gruppen bilden verschiedene Dynamiken und
  Systeme ab\, die wir auch außerhalb von Spielen wiederfinden. Diese Geme
 insamkeiten und was wir daraus auf unseren Alltag übertragen können\, is
 t Gegenstand des Vortrages.\npräsentiert von game HESSEN
DTSTART;TZID=Europe/Berlin:20260605T140000
DTEND;TZID=Europe/Berlin:20260605T143000
LOCATION:Workshop Area
END:VEVENT
BEGIN:VTIMEZONE
TZID:Europe/Berlin
END:VTIMEZONE
END:VCALENDAR
