BEGIN:VCALENDAR
PRODID:-//eluceo/ical//2.0/EN
VERSION:2.0
CALSCALE:GREGORIAN
BEGIN:VEVENT
UID:72870f26c89422857aeb69b6ca0a125f
DTSTAMP:20260420T160321Z
SUMMARY:Workshop: Sag's mit einem Prompt.
DESCRIPTION:KI verändert\, wie wir Ideen entwickeln\, Entwürfe denken und
  Bilder erzeugen. Gedanken werden schneller konkret\, Visionen greifbarer 
 und abstrakte Inhalte nachvollziehbarer. KI ist dabei kein Ersatz für Kre
 ativität. Sie ist das Werkzeug\, um sie zu visualisieren\, umzusetzen und
  erlebbar zu machen. Ein 60-minütiges Stegreifprojekt zwischen Intuition 
 und Algorithmus.
DTSTART;TZID=Europe/Berlin:20260605T150000
DTEND;TZID=Europe/Berlin:20260605T160000
LOCATION:Workshop Area
END:VEVENT
BEGIN:VTIMEZONE
TZID:Europe/Berlin
END:VTIMEZONE
END:VCALENDAR
