BEGIN:VCALENDAR
PRODID:-//eluceo/ical//2.0/EN
VERSION:2.0
CALSCALE:GREGORIAN
BEGIN:VEVENT
UID:e359662062ad228995f9c628dbcc9ca8
DTSTAMP:20260420T160551Z
SUMMARY:Showcase AI
DESCRIPTION:präsentiert vom House of Digital Transformation
DTSTART;TZID=Europe/Berlin:20260605T151500
DTEND;TZID=Europe/Berlin:20260605T160000
LOCATION:Schalterhalle | Interactive Stage
END:VEVENT
BEGIN:VTIMEZONE
TZID:Europe/Berlin
END:VTIMEZONE
END:VCALENDAR
