BEGIN:VCALENDAR
PRODID:-//eluceo/ical//2.0/EN
VERSION:2.0
CALSCALE:GREGORIAN
BEGIN:VEVENT
UID:44dabf3d15c36cd72f0184612418fafc
DTSTAMP:20260420T160147Z
SUMMARY:Begrüßung World Design Capital FrankfurtRheinMain 2026 & über da
 s Gebäude (N.N.)
DESCRIPTION:
DTSTART;TZID=Europe/Berlin:20260605T102000
DTEND;TZID=Europe/Berlin:20260605T103000
LOCATION:Mainstage
END:VEVENT
BEGIN:VTIMEZONE
TZID:Europe/Berlin
END:VTIMEZONE
END:VCALENDAR
