BEGIN:VCALENDAR
PRODID:-//eluceo/ical//2.0/EN
VERSION:2.0
CALSCALE:GREGORIAN
BEGIN:VEVENT
UID:f34721c806ccff87aeaf892789f44993
DTSTAMP:20260420T160551Z
SUMMARY:Fishbowl AI
DESCRIPTION:präsentiert vom DDC
DTSTART;TZID=Europe/Berlin:20260605T140000
DTEND;TZID=Europe/Berlin:20260605T151500
LOCATION:Schalterhalle | Interactive Stage
END:VEVENT
BEGIN:VTIMEZONE
TZID:Europe/Berlin
END:VTIMEZONE
END:VCALENDAR
