BEGIN:VCALENDAR
PRODID:-//eluceo/ical//2.0/EN
VERSION:2.0
CALSCALE:GREGORIAN
BEGIN:VEVENT
UID:7ada4bdfbb5c6fcef5f996f959d43699
DTSTAMP:20260420T160429Z
SUMMARY:Kaffeepause
DESCRIPTION:
DTSTART;TZID=Europe/Berlin:20260605T153000
DTEND;TZID=Europe/Berlin:20260605T160000
LOCATION:Mainstage
END:VEVENT
BEGIN:VTIMEZONE
TZID:Europe/Berlin
END:VTIMEZONE
END:VCALENDAR
