BEGIN:VCALENDAR
PRODID:-//eluceo/ical//2.0/EN
VERSION:2.0
CALSCALE:GREGORIAN
BEGIN:VEVENT
UID:7103d8a33a1d20025534e86528b7cad6
DTSTAMP:20260420T175415Z
SUMMARY:Fishbowl Ausbildung für die Zukunft
DESCRIPTION:Wie müssen Ausbildungen heute gestaltet sein\, um den Anforder
 ungen von morgen gerecht zu werden? In dieser Fishbowl diskutieren hessisc
 he Hochschulen gemeinsam mit der Kreativwirtschaft über zentrale Zukunfts
 kompetenzen – von Kreativität und Kollaboration bis zu digitalen Skills
 . Ein offener Austausch über neue Wege in Bildung und Qualifizierung.
DTSTART;TZID=Europe/Berlin:20260605T123000
DTEND;TZID=Europe/Berlin:20260605T140000
LOCATION:Schalterhalle | Interactive Stage
END:VEVENT
BEGIN:VTIMEZONE
TZID:Europe/Berlin
END:VTIMEZONE
END:VCALENDAR
